{
 "extent": {
  "ymin": 228003.79918652889,
  "xmin": 1175342.2005822323,
  "ymax": 235945.50789946318,
  "xmax": 1183719.2803603231,
  "spatialReference": {
   "latestVcsWkid": 5703,
   "latestWkid": 3437,
   "wkid": 102710,
   "vcsWkid": 5703
  }
 },
 "blockWidth": 128,
 "mosaicOperator": "First",
 "serviceSourceType": "esriImageServiceSourceTypeDataset",
 "hasMultidimensions": false,
 "maxImageWidth": 15000,
 "meanValues": [
  251.45077469789575,
  251.45077469789575,
  251.45077469789575
 ],
 "hasColormap": false,
 "compressionType": "LZ77",
 "defaultCompressionQuality": 75,
 "maxValues": [
  255,
  255,
  255
 ],
 "hasHistograms": true,
 "datasetFormat": "SDR",
 "maxImageHeight": 4100,
 "sortField": "",
 "bandNames": [
  "Band_1",
  "Band_2",
  "Band_3"
 ],
 "spatialReference": {
  "latestVcsWkid": 5703,
  "latestWkid": 3437,
  "wkid": 102710,
  "vcsWkid": 5703
 },
 "fullExtent": {
  "ymin": 228003.79918652889,
  "xmin": 1175342.2005822323,
  "ymax": 235945.50789946318,
  "xmax": 1183719.2803603231,
  "spatialReference": {
   "latestVcsWkid": 5703,
   "latestWkid": 3437,
   "wkid": 102710,
   "vcsWkid": 5703
  }
 },
 "bandCount": 3,
 "rasterFunctionInfos": [
  {
   "help": "",
   "name": "None",
   "description": ""
  }
 ],
 "supportsStatistics": false,
 "sortableFields": "",
 "minValues": [
  0,
  0,
  0
 ],
 "allowRasterFunction": true,
 "allowComputeTiePoints": false,
 "serviceDataType": "esriImageServiceDataTypeRGB",
 "supportsAdvancedQueries": false,
 "currentVersion": 12,
 "heightModelInfo": {
  "vertCRS": "NAVD_1988",
  "heightModel": "gravity_related_height",
  "heightUnit": "meter"
 },
 "sortValue": null,
 "objectIdField": "",
 "blockHeight": 128,
 "initialExtent": {
  "ymin": 228003.79918652889,
  "xmin": 1175342.2005822323,
  "ymax": 235945.50789946318,
  "xmax": 1183719.2803603231,
  "spatialReference": {
   "latestVcsWkid": 5703,
   "latestWkid": 3437,
   "wkid": 102710,
   "vcsWkid": 5703
  }
 },
 "pixelSizeX": 0.61596174838903073,
 "pixelSizeY": 0.77397024782519086,
 "defaultMosaicMethod": "Center",
 "name": "RASTER/RAS_Map_1891_Service",
 "allowedMosaicMethods": "",
 "fields": [],
 "allowAnalysis": true,
 "hasRasterAttributeTable": false,
 "useStandardizedQueries": false,
 "description": "",
 "pixelType": "U8",
 "meanPixelSize": 0.21182605987516714,
 "exportTilesAllowed": false,
 "editFieldsInfo": null,
 "rasterTypeInfos": [
  {
   "help": "",
   "name": "Raster Dataset",
   "description": "Supports all ArcGIS Raster Datasets"
  }
 ],
 "defaultResamplingMethod": "Bilinear",
 "itemAccess": false,
 "minScale": 0,
 "serviceProperties": "Center<\/MosaicMethod>First<\/MosaicOperator>true<\/SortAscending><\/LockImageID><\/TileOrderField>0<\/TileOrderBase>0.000000<\/AvgImageSpacingX>0.000000<\/AvgImageSpacingY>0.0<\/ViewPointX>0.0<\/ViewPointY>0.0<\/ViewPointDefShiftX>0.0<\/ViewPointDefShiftY>None<\/CompressionMethod>75<\/CompressionQuality>0.010000<\/CompressionTolerance>Bilinear<\/SamplingMethod><\/ImageServiceProperties><\/ImageServer>",
 "advancedQueryCapabilities": {
  "supportsStatistics": false,
  "supportsSqlExpression": false,
  "supportsOrderBy": false,
  "useStandardizedQueries": false,
  "supportsPagination": false,
  "supportsDistinct": false
 },
 "serviceItemId": "cfe3930770b24ef4aaad69421c6ae515",
 "capabilities": "Image,Metadata,Mensuration",
 "maxScale": 0,
 "stdvValues": [
  26.514898908243914,
  26.514898820806597,
  26.514898791660826
 ],
 "allowedFields": "",
 "minPixelSize": 0,
 "sortAscending": true,
 "inspectionCapabilities": "",
 "maxPixelSize": 0,
 "uncompressedSize": 418648800,
 "serviceDescription": "RASTER/RAS_Map_1891_Service",
 "allowCopy": true,
 "copyrightText": "",
 "mensurationCapabilities": "Basic",
 "ownershipBasedAccessControlForRasters": null
}
