{
 "extent": {
  "ymin": 229899.40495345625,
  "xmin": 1175633.4213862754,
  "ymax": 234959.81990480796,
  "xmax": 1182205.8849410715,
  "spatialReference": {
   "latestVcsWkid": 5703,
   "latestWkid": 3437,
   "wkid": 102710,
   "vcsWkid": 5703
  }
 },
 "blockWidth": 128,
 "mosaicOperator": "First",
 "serviceSourceType": "esriImageServiceSourceTypeDataset",
 "hasMultidimensions": false,
 "maxImageWidth": 15000,
 "meanValues": [
  244.2824301384083
 ],
 "hasColormap": false,
 "compressionType": "LZ77",
 "defaultCompressionQuality": 75,
 "maxValues": [
  255
 ],
 "hasHistograms": true,
 "datasetFormat": "SDR",
 "maxImageHeight": 4100,
 "sortField": "",
 "bandNames": [
  "Band_1"
 ],
 "spatialReference": {
  "latestVcsWkid": 5703,
  "latestWkid": 3437,
  "wkid": 102710,
  "vcsWkid": 5703
 },
 "fullExtent": {
  "ymin": 229899.40495345625,
  "xmin": 1175633.4213862754,
  "ymax": 234959.81990480796,
  "xmax": 1182205.8849410715,
  "spatialReference": {
   "latestVcsWkid": 5703,
   "latestWkid": 3437,
   "wkid": 102710,
   "vcsWkid": 5703
  }
 },
 "bandCount": 1,
 "rasterFunctionInfos": [
  {
   "help": "",
   "name": "None",
   "description": ""
  }
 ],
 "supportsStatistics": false,
 "sortableFields": "",
 "minValues": [
  0
 ],
 "allowRasterFunction": true,
 "allowComputeTiePoints": false,
 "serviceDataType": "esriImageServiceDataTypeGeneric",
 "supportsAdvancedQueries": false,
 "currentVersion": 12,
 "heightModelInfo": {
  "vertCRS": "NAVD_1988",
  "heightModel": "gravity_related_height",
  "heightUnit": "meter"
 },
 "sortValue": null,
 "objectIdField": "",
 "blockHeight": 128,
 "initialExtent": {
  "ymin": 229899.40495345625,
  "xmin": 1175633.4213862754,
  "ymax": 234959.81990480796,
  "xmax": 1182205.8849410715,
  "spatialReference": {
   "latestVcsWkid": 5703,
   "latestWkid": 3437,
   "wkid": 102710,
   "vcsWkid": 5703
  }
 },
 "pixelSizeX": 1.3165992697908782,
 "pixelSizeY": 1.2850215722071365,
 "defaultMosaicMethod": "Center",
 "name": "RASTER/RAS_Map_1909_Service",
 "allowedMosaicMethods": "",
 "fields": [],
 "allowAnalysis": true,
 "hasRasterAttributeTable": false,
 "useStandardizedQueries": false,
 "description": "",
 "pixelType": "U8",
 "meanPixelSize": 0.3964878092961161,
 "exportTilesAllowed": false,
 "editFieldsInfo": null,
 "rasterTypeInfos": [
  {
   "help": "",
   "name": "Raster Dataset",
   "description": "Supports all ArcGIS Raster Datasets"
  }
 ],
 "defaultResamplingMethod": "Bilinear",
 "itemAccess": false,
 "minScale": 0,
 "serviceProperties": "Center<\/MosaicMethod>First<\/MosaicOperator>true<\/SortAscending><\/LockImageID><\/TileOrderField>0<\/TileOrderBase>0.000000<\/AvgImageSpacingX>0.000000<\/AvgImageSpacingY>0.0<\/ViewPointX>0.0<\/ViewPointY>0.0<\/ViewPointDefShiftX>0.0<\/ViewPointDefShiftY>None<\/CompressionMethod>75<\/CompressionQuality>0.010000<\/CompressionTolerance>Bilinear<\/SamplingMethod><\/ImageServiceProperties><\/ImageServer>",
 "advancedQueryCapabilities": {
  "supportsStatistics": false,
  "supportsSqlExpression": false,
  "supportsOrderBy": false,
  "useStandardizedQueries": false,
  "supportsPagination": false,
  "supportsDistinct": false
 },
 "serviceItemId": "d59d14e55d074dcbad4e6cedd45ea8b7",
 "capabilities": "Image,Metadata,Mensuration",
 "maxScale": 0,
 "stdvValues": [
  48.28014183819554
 ],
 "allowedFields": "",
 "minPixelSize": 0,
 "sortAscending": true,
 "inspectionCapabilities": "",
 "maxPixelSize": 0,
 "uncompressedSize": 19658496,
 "serviceDescription": "RASTER/RAS_Map_1909_Service",
 "allowCopy": true,
 "copyrightText": "",
 "mensurationCapabilities": "Basic",
 "ownershipBasedAccessControlForRasters": null
}
