View In:
ArcGIS JavaScript
ArcGIS Online map viewer
ArcGIS Earth
Service Description: RASTER/RAS_Imagery_2025_Service_UAV_SP
Name: RASTER/RAS_Imagery_2025_Service_UAV_SP
Description:
Single Fused Map Cache: false
Extent:
XMin: 1173010.230441995
YMin: 229519.34949373623
XMax: 1183967.205041995
YMax: 239837.86341373622
Spatial Reference: 102710
(3437)
Initial Extent:
XMin: 1173010.230441995
YMin: 229519.34949373623
XMax: 1183967.205041995
YMax: 239837.86341373622
Spatial Reference: 102710
(3437)
Full Extent:
XMin: 1173010.230441995
YMin: 229519.34949373623
XMax: 1183967.205041995
YMax: 239837.86341373622
Spatial Reference: 102710
(3437)
Pixel Size X: 0.1315600000000009
Pixel Size Y: 0.13155999999999998
Band Count: 3
Pixel Type: U8
RasterFunction Infos: {"rasterFunctionInfos": [
{
"help": "",
"name": "None",
"description": "Make a Raster or Raster Dataset into a Function Raster Dataset."
},
{
"help": "",
"name": "None",
"description": "Make a Raster or Raster Dataset into a Function Raster Dataset."
}
]}
Mensuration Capabilities:
Inspection Capabilities:
Has Histograms: true
Has Colormap: false
Has Multi Dimensions : false
Rendering Rule:
Min Scale: 0
Max Scale: 0
Copyright Text:
Service Data Type: esriImageServiceDataTypeRGB
Min Values: 0, 0, 0
Max Values: 255, 255, 255
Mean Values: 54.929549031208801, 69.08128977915635, 50.462601706277916
Standard Deviation Values: 60.537737087054211, 72.979135044563463, 57.789581281225637
Object ID Field: OBJECTID
Fields:
-
OBJECTID
(
alias: OBJECTID, type: esriFieldTypeOID
)
-
Name
(
length: 200, alias: Name, type: esriFieldTypeString
)
-
MinPS
(
alias: MinPS, type: esriFieldTypeDouble
)
-
MaxPS
(
alias: MaxPS, type: esriFieldTypeDouble
)
-
LowPS
(
alias: LowPS, type: esriFieldTypeDouble
)
-
HighPS
(
alias: HighPS, type: esriFieldTypeDouble
)
-
Category
(
alias: Category, type: esriFieldTypeInteger
, Coded Values:
[0: Unknown]
, [1: Primary]
, [2: Overview]
, ...6 more...
)
-
Tag
(
length: 100, alias: Tag, type: esriFieldTypeString
)
-
GroupName
(
length: 100, alias: GroupName, type: esriFieldTypeString
)
-
ProductName
(
length: 100, alias: ProductName, type: esriFieldTypeString
)
-
CenterX
(
alias: CenterX, type: esriFieldTypeDouble
)
-
CenterY
(
alias: CenterY, type: esriFieldTypeDouble
)
-
ZOrder
(
alias: ZOrder, type: esriFieldTypeInteger
)
-
Shape
(
alias: Shape, type: esriFieldTypeGeometry
)
-
Shape.STArea()
(
alias: Shape.STArea(), type: esriFieldTypeDouble
)
-
Shape.STLength()
(
alias: Shape.STLength(), type: esriFieldTypeDouble
)
Default Mosaic Method: Northwest
Allowed Mosaic Methods: NorthWest,Center,LockRaster,ByAttribute,Nadir,Viewpoint,Seamline,None
SortField:
SortValue: N/A
Mosaic Operator: First
Default Compression Quality: 75
Default Resampling Method: Bilinear
Max Record Count: 1000
Max Image Height: 4100
Max Image Width: 15000
Max Download Image Count: 20
Max Mosaic Image Count: 20
Allow Raster Function: true
Allow Copy: true
Allow Analysis: true
Allow Compute TiePoints: false
Supports Statistics: true
Supports Advanced Queries: true
Use StandardizedQueries: true
Raster Type Infos:
Name: Raster Dataset
Description: Supports all ArcGIS Raster Datasets
Help:
Has Raster Attribute Table: false
Edit Fields Info: N/A
Ownership Based AccessControl For Rasters: N/A
Child Resources:
Info
Histograms
Statistics
Key Properties
Legend
Raster Function Infos
Supported Operations:
Export Image
Query
Identify
Measure
Compute Histograms
Compute Statistics Histograms
Get Samples
Compute Class Statistics
Query GPS Info
Find Images
Image to Map
Map to Image
Measure from Image
Image to Map Multiray
Query Boundary
Compute Pixel Location
Compute Angles
Validate
Project