View In:
ArcGIS JavaScript
ArcGIS Online map viewer
ArcGIS Earth
Service Description: RASTER/RAS_Map_1891_Service
Name: RASTER/RAS_Map_1891_Service
Description:
Single Fused Map Cache: false
Extent:
XMin: 1175342.2005822323
YMin: 228003.7991865289
XMax: 1183719.2803603231
YMax: 235945.50789946318
Spatial Reference: 102710
(3437)
VCSWkid(5703)
LatestVCSWkid(5703)
Initial Extent:
XMin: 1175342.2005822323
YMin: 228003.7991865289
XMax: 1183719.2803603231
YMax: 235945.50789946318
Spatial Reference: 102710
(3437)
VCSWkid(5703)
LatestVCSWkid(5703)
Full Extent:
XMin: 1175342.2005822323
YMin: 228003.7991865289
XMax: 1183719.2803603231
YMax: 235945.50789946318
Spatial Reference: 102710
(3437)
VCSWkid(5703)
LatestVCSWkid(5703)
Pixel Size X: 0.6159617483890307
Pixel Size Y: 0.7739702478251909
Band Count: 3
Pixel Type: U8
RasterFunction Infos: {"rasterFunctionInfos": [{
"help": "",
"name": "None",
"description": ""
}]}
Mensuration Capabilities: Basic
Inspection Capabilities:
Has Histograms: true
Has Colormap: false
Has Multi Dimensions : false
Rendering Rule:
Min Scale: 0
Max Scale: 0
Copyright Text:
Service Data Type: esriImageServiceDataTypeRGB
Min Values: 0, 0, 0
Max Values: 255, 255, 255
Mean Values: 251.45077469789575, 251.45077469789575, 251.45077469789575
Standard Deviation Values: 26.514898908243914, 26.514898820806597, 26.514898791660826
Object ID Field:
Fields:
None
Default Mosaic Method: Center
Allowed Mosaic Methods:
SortField:
SortValue: N/A
Mosaic Operator: First
Default Compression Quality: 75
Default Resampling Method: Bilinear
Max Record Count: null
Max Image Height: 4100
Max Image Width: 15000
Max Download Image Count: null
Max Mosaic Image Count: null
Allow Raster Function: true
Allow Copy: true
Allow Analysis: true
Allow Compute TiePoints: false
Supports Statistics: false
Supports Advanced Queries: false
Use StandardizedQueries: false
Raster Type Infos:
Name: Raster Dataset
Description: Supports all ArcGIS Raster Datasets
Help:
Has Raster Attribute Table: false
Edit Fields Info: N/A
Ownership Based AccessControl For Rasters: N/A
Child Resources:
Info
Histograms
Statistics
Key Properties
Legend
Raster Function Infos
Supported Operations:
Export Image
Identify
Measure
Compute Histograms
Compute Statistics Histograms
Get Samples
Compute Class Statistics
Query Boundary
Compute Pixel Location
Compute Angles
Validate
Project