View In:
ArcGIS JavaScript
ArcGIS Online map viewer
ArcGIS Earth
Service Description: RASTER/RAS_Map_1909_Service
Name: RASTER/RAS_Map_1909_Service
Description:
Single Fused Map Cache: false
Extent:
XMin: 1175633.4213862754
YMin: 229899.40495345625
XMax: 1182205.8849410715
YMax: 234959.81990480796
Spatial Reference: 102710
(3437)
VCSWkid(5703)
LatestVCSWkid(5703)
Initial Extent:
XMin: 1175633.4213862754
YMin: 229899.40495345625
XMax: 1182205.8849410715
YMax: 234959.81990480796
Spatial Reference: 102710
(3437)
VCSWkid(5703)
LatestVCSWkid(5703)
Full Extent:
XMin: 1175633.4213862754
YMin: 229899.40495345625
XMax: 1182205.8849410715
YMax: 234959.81990480796
Spatial Reference: 102710
(3437)
VCSWkid(5703)
LatestVCSWkid(5703)
Pixel Size X: 1.3165992697908782
Pixel Size Y: 1.2850215722071365
Band Count: 1
Pixel Type: U8
RasterFunction Infos: {"rasterFunctionInfos": [{
"help": "",
"name": "None",
"description": ""
}]}
Mensuration Capabilities: Basic
Inspection Capabilities:
Has Histograms: true
Has Colormap: false
Has Multi Dimensions : false
Rendering Rule:
Min Scale: 0
Max Scale: 0
Copyright Text:
Service Data Type: esriImageServiceDataTypeGeneric
Min Values: 0
Max Values: 255
Mean Values: 244.2824301384083
Standard Deviation Values: 48.28014183819554
Object ID Field:
Fields:
None
Default Mosaic Method: Center
Allowed Mosaic Methods:
SortField:
SortValue: N/A
Mosaic Operator: First
Default Compression Quality: 75
Default Resampling Method: Bilinear
Max Record Count: null
Max Image Height: 4100
Max Image Width: 15000
Max Download Image Count: null
Max Mosaic Image Count: null
Allow Raster Function: true
Allow Copy: true
Allow Analysis: true
Allow Compute TiePoints: false
Supports Statistics: false
Supports Advanced Queries: false
Use StandardizedQueries: false
Raster Type Infos:
Name: Raster Dataset
Description: Supports all ArcGIS Raster Datasets
Help:
Has Raster Attribute Table: false
Edit Fields Info: N/A
Ownership Based AccessControl For Rasters: N/A
Child Resources:
Info
Histograms
Statistics
Key Properties
Legend
Raster Function Infos
Supported Operations:
Export Image
Identify
Measure
Compute Histograms
Compute Statistics Histograms
Get Samples
Compute Class Statistics
Query Boundary
Compute Pixel Location
Compute Angles
Validate
Project